BEGIN:VCALENDAR
VERSION:2.0
PRODID:icalendar-ruby
CALSCALE:GREGORIAN
METHOD:PUBLISH
BEGIN:VEVENT
DTSTAMP:20260420T064040Z
UID:5-1607714@citederefuge.com
DTSTART:20261101T160000Z
DTEND:20261101T170000Z
CLASS:PUBLIC
CREATED:20260420T001440
DESCRIPTION:Sunday Worship
LAST-MODIFIED:20260420T001440
LOCATION:
SUMMARY:Sunday Worship
URL;VALUE=URI:https://citederefuge.com/events/sunday-worship/2026-11-01
END:VEVENT
END:VCALENDAR
