BEGIN:VCALENDAR
VERSION:2.0
PRODID:icalendar-ruby
CALSCALE:GREGORIAN
METHOD:PUBLISH
BEGIN:VEVENT
DTSTAMP:20260420T051747Z
UID:5-1607713@citederefuge.com
DTSTART:20261025T150000Z
DTEND:20261025T160000Z
CLASS:PUBLIC
CREATED:20260420T001440
DESCRIPTION:Sunday Worship
LAST-MODIFIED:20260420T001440
LOCATION:
SUMMARY:Sunday Worship
URL;VALUE=URI:https://citederefuge.com/events/sunday-worship/2026-10-25
END:VEVENT
END:VCALENDAR
