BEGIN:VCALENDAR
VERSION:2.0
PRODID:icalendar-ruby
CALSCALE:GREGORIAN
METHOD:PUBLISH
BEGIN:VEVENT
DTSTAMP:20260420T035906Z
UID:1-1606826@citederefuge.com
DTSTART:20261011T163000Z
DTEND:20261011T190000Z
CLASS:PUBLIC
CREATED:20260419T203735
DESCRIPTION:Please join us for our Worship service!
LAST-MODIFIED:20260419T203735
LOCATION:879 Sawyer st South Portland ME 04106
SUMMARY:Sunday Service
URL;VALUE=URI:https://citederefuge.com/events/sunday-service--1/2026-10-11
ATTACH;FILENAME=priscilla-du-preez-234138-unsplash.jpg;FMTTYPE=image/jpeg:h
 ttps://dq5pwpg1q8ru0.cloudfront.net/2025/08/17/00/39/07/1d842a31-b464-46c3
 -afb8-02cc8d4b2f01/priscilla-du-preez-234138-unsplash.jpg
END:VEVENT
END:VCALENDAR
